BEGIN:VCALENDAR
VERSION:2.0
PRODID:-//AFC Rushden &amp; Diamonds - ECPv6.15.20//NONSGML v1.0//EN
CALSCALE:GREGORIAN
METHOD:PUBLISH
X-WR-CALNAME:AFC Rushden &amp; Diamonds
X-ORIGINAL-URL:https://afcdiamonds.com
X-WR-CALDESC:Events for AFC Rushden &amp; Diamonds
REFRESH-INTERVAL;VALUE=DURATION:PT1H
X-Robots-Tag:noindex
X-PUBLISHED-TTL:PT1H
BEGIN:VTIMEZONE
TZID:Europe/London
BEGIN:DAYLIGHT
TZOFFSETFROM:+0000
TZOFFSETTO:+0100
TZNAME:BST
DTSTART:20190331T010000
END:DAYLIGHT
BEGIN:STANDARD
TZOFFSETFROM:+0100
TZOFFSETTO:+0000
TZNAME:GMT
DTSTART:20191027T010000
END:STANDARD
BEGIN:DAYLIGHT
TZOFFSETFROM:+0000
TZOFFSETTO:+0100
TZNAME:BST
DTSTART:20200329T010000
END:DAYLIGHT
BEGIN:STANDARD
TZOFFSETFROM:+0100
TZOFFSETTO:+0000
TZNAME:GMT
DTSTART:20201025T010000
END:STANDARD
BEGIN:DAYLIGHT
TZOFFSETFROM:+0000
TZOFFSETTO:+0100
TZNAME:BST
DTSTART:20210328T010000
END:DAYLIGHT
BEGIN:STANDARD
TZOFFSETFROM:+0100
TZOFFSETTO:+0000
TZNAME:GMT
DTSTART:20211031T010000
END:STANDARD
END:VTIMEZONE
BEGIN:VEVENT
DTSTART;TZID=Europe/London:20201015T193000
DTEND;TZID=Europe/London:20201015T223000
DTSTAMP:20260422T031548
CREATED:20200920T133744Z
LAST-MODIFIED:20201001T191530Z
UID:77468-1602790200-1602801000@afcdiamonds.com
SUMMARY:Quiz Night
DESCRIPTION:
URL:https://afcdiamonds.com/event/quiz-night-2/
LOCATION:Rushden Bowls Club\, Northampton Road\, Rushden\, NN10 6AN
CATEGORIES:Quiz
ATTACH;FMTTYPE=image/jpeg:https://afcdiamonds.com/wp-content/uploads/2012/01/quiz-night-logo.jpg
END:VEVENT
END:VCALENDAR