BEGIN:VCALENDAR
VERSION:2.0
PRODID:-//AFC Rushden &amp; Diamonds - ECPv6.15.20//NONSGML v1.0//EN
CALSCALE:GREGORIAN
METHOD:PUBLISH
X-WR-CALNAME:AFC Rushden &amp; Diamonds
X-ORIGINAL-URL:https://afcdiamonds.com
X-WR-CALDESC:Events for AFC Rushden &amp; Diamonds
REFRESH-INTERVAL;VALUE=DURATION:PT1H
X-Robots-Tag:noindex
X-PUBLISHED-TTL:PT1H
BEGIN:VTIMEZONE
TZID:Europe/London
BEGIN:DAYLIGHT
TZOFFSETFROM:+0000
TZOFFSETTO:+0100
TZNAME:BST
DTSTART:20200329T010000
END:DAYLIGHT
BEGIN:STANDARD
TZOFFSETFROM:+0100
TZOFFSETTO:+0000
TZNAME:GMT
DTSTART:20201025T010000
END:STANDARD
BEGIN:DAYLIGHT
TZOFFSETFROM:+0000
TZOFFSETTO:+0100
TZNAME:BST
DTSTART:20210328T010000
END:DAYLIGHT
BEGIN:STANDARD
TZOFFSETFROM:+0100
TZOFFSETTO:+0000
TZNAME:GMT
DTSTART:20211031T010000
END:STANDARD
BEGIN:DAYLIGHT
TZOFFSETFROM:+0000
TZOFFSETTO:+0100
TZNAME:BST
DTSTART:20220327T010000
END:DAYLIGHT
BEGIN:STANDARD
TZOFFSETFROM:+0100
TZOFFSETTO:+0000
TZNAME:GMT
DTSTART:20221030T010000
END:STANDARD
END:VTIMEZONE
BEGIN:VEVENT
DTSTART;TZID=Europe/London:20210501T150000
DTEND;TZID=Europe/London:20210501T150000
DTSTAMP:20260425T184636
CREATED:20200906T200046Z
LAST-MODIFIED:20210316T082627Z
UID:76653-1619881200-1619881200@afcdiamonds.com
SUMMARY:MATCH OFF - Alvechurch FC v AFCRD
DESCRIPTION:
URL:https://afcdiamonds.com/event/alvechurch-fc-v-afcrd-01-05-21/
LOCATION:Lye Meadow\, 53 Redditch Road\, Alvechurch\, Worcestershire\, B48 7RS
CATEGORIES:League Fixture
ATTACH;FMTTYPE=image/jpeg:https://afcdiamonds.com/wp-content/uploads/2018/07/Alvechurch-Match-A.jpg
END:VEVENT
END:VCALENDAR