BEGIN:VCALENDAR
VERSION:2.0
PRODID:-//AFC Rushden &amp; Diamonds - ECPv6.15.20//NONSGML v1.0//EN
CALSCALE:GREGORIAN
METHOD:PUBLISH
X-ORIGINAL-URL:https://afcdiamonds.com
X-WR-CALDESC:Events for AFC Rushden &amp; Diamonds
REFRESH-INTERVAL;VALUE=DURATION:PT1H
X-Robots-Tag:noindex
X-PUBLISHED-TTL:PT1H
BEGIN:VTIMEZONE
TZID:Europe/London
BEGIN:DAYLIGHT
TZOFFSETFROM:+0000
TZOFFSETTO:+0100
TZNAME:BST
DTSTART:20200329T010000
END:DAYLIGHT
BEGIN:STANDARD
TZOFFSETFROM:+0100
TZOFFSETTO:+0000
TZNAME:GMT
DTSTART:20201025T010000
END:STANDARD
BEGIN:DAYLIGHT
TZOFFSETFROM:+0000
TZOFFSETTO:+0100
TZNAME:BST
DTSTART:20210328T010000
END:DAYLIGHT
BEGIN:STANDARD
TZOFFSETFROM:+0100
TZOFFSETTO:+0000
TZNAME:GMT
DTSTART:20211031T010000
END:STANDARD
BEGIN:DAYLIGHT
TZOFFSETFROM:+0000
TZOFFSETTO:+0100
TZNAME:BST
DTSTART:20220327T010000
END:DAYLIGHT
BEGIN:STANDARD
TZOFFSETFROM:+0100
TZOFFSETTO:+0000
TZNAME:GMT
DTSTART:20221030T010000
END:STANDARD
END:VTIMEZONE
BEGIN:VEVENT
DTSTART;VALUE=DATE:20210807
DTEND;VALUE=DATE:20210808
DTSTAMP:20260426T024131
CREATED:20210718T115632Z
LAST-MODIFIED:20210718T133018Z
UID:80051-1628294400-1628380799@afcdiamonds.com
SUMMARY:Emirates FA Cup - Extra Preliminary Round
DESCRIPTION:
URL:https://afcdiamonds.com/event/emirates-fa-cup-extra-preliminary-round/
LOCATION:Northamptonshire
CATEGORIES:FA Cup
ATTACH;FMTTYPE=image/jpeg:https://afcdiamonds.com/wp-content/uploads/2018/08/FA-Cup-620x230.jpg
END:VEVENT
BEGIN:VEVENT
DTSTART;TZID=Europe/London:20210807T103000
DTEND;TZID=Europe/London:20210807T103000
DTSTAMP:20260426T024131
CREATED:20210725T163554Z
LAST-MODIFIED:20210806T121437Z
UID:80277-1628332200-1628332200@afcdiamonds.com
SUMMARY:Kidderminster Harriers U21 v AFC Rushden & Diamonds Academy U21
DESCRIPTION:U21 Pre-Season Friendly v Kidderminster Harriers U21
URL:https://afcdiamonds.com/event/kidderminster-harriers-u21-v-afc-rushden-diamonds-academy-u21/
LOCATION:DY11 7DY\, DY11 7DY
CATEGORIES:U21 Pre-Season Friendly
ATTACH;FMTTYPE=image/png:https://afcdiamonds.com/wp-content/uploads/2021/07/Kidderminster-Harriers-MatchLogo-A.png
END:VEVENT
BEGIN:VEVENT
DTSTART;TZID=Europe/London:20210807T150000
DTEND;TZID=Europe/London:20210807T150000
DTSTAMP:20260426T024131
CREATED:20210529T153331Z
LAST-MODIFIED:20210721T163455Z
UID:79484-1628348400-1628348400@afcdiamonds.com
SUMMARY:Thame United FC v AFC Rushden & Diamonds
DESCRIPTION:Pre-Season Friendly
URL:https://afcdiamonds.com/event/thame-united-fc-v-afc-rushden-diamonds/
LOCATION:The ASM Stadium\, Meadow View Park\, Thame\, Oxfordshire\, OX9 3RN
CATEGORIES:Pre-Season Friendly
ATTACH;FMTTYPE=image/jpeg:https://afcdiamonds.com/wp-content/uploads/2017/07/Thame-MatchLogo-A.jpg
END:VEVENT
END:VCALENDAR