BEGIN:VCALENDAR
VERSION:2.0
PRODID:-//AFC Rushden &amp; Diamonds - ECPv6.15.20//NONSGML v1.0//EN
CALSCALE:GREGORIAN
METHOD:PUBLISH
X-WR-CALNAME:AFC Rushden &amp; Diamonds
X-ORIGINAL-URL:https://afcdiamonds.com
X-WR-CALDESC:Events for AFC Rushden &amp; Diamonds
REFRESH-INTERVAL;VALUE=DURATION:PT1H
X-Robots-Tag:noindex
X-PUBLISHED-TTL:PT1H
BEGIN:VTIMEZONE
TZID:Europe/London
BEGIN:DAYLIGHT
TZOFFSETFROM:+0000
TZOFFSETTO:+0100
TZNAME:BST
DTSTART:20200329T010000
END:DAYLIGHT
BEGIN:STANDARD
TZOFFSETFROM:+0100
TZOFFSETTO:+0000
TZNAME:GMT
DTSTART:20201025T010000
END:STANDARD
BEGIN:DAYLIGHT
TZOFFSETFROM:+0000
TZOFFSETTO:+0100
TZNAME:BST
DTSTART:20210328T010000
END:DAYLIGHT
BEGIN:STANDARD
TZOFFSETFROM:+0100
TZOFFSETTO:+0000
TZNAME:GMT
DTSTART:20211031T010000
END:STANDARD
BEGIN:DAYLIGHT
TZOFFSETFROM:+0000
TZOFFSETTO:+0100
TZNAME:BST
DTSTART:20220327T010000
END:DAYLIGHT
BEGIN:STANDARD
TZOFFSETFROM:+0100
TZOFFSETTO:+0000
TZNAME:GMT
DTSTART:20221030T010000
END:STANDARD
END:VTIMEZONE
BEGIN:VEVENT
DTSTART;VALUE=DATE:20210821
DTEND;VALUE=DATE:20210822
DTSTAMP:20260426T005947
CREATED:20210718T115632Z
LAST-MODIFIED:20210718T132642Z
UID:80052-1629504000-1629590399@afcdiamonds.com
SUMMARY:Emirates FA Cup - Preliminary Round
DESCRIPTION:
URL:https://afcdiamonds.com/event/emirates-fa-cup-preliminary-round/
LOCATION:Northamptonshire
CATEGORIES:FA Cup
ATTACH;FMTTYPE=image/jpeg:https://afcdiamonds.com/wp-content/uploads/2018/08/FA-Cup-Slider-620x250.jpg
END:VEVENT
BEGIN:VEVENT
DTSTART;TZID=Europe/London:20210821T103000
DTEND;TZID=Europe/London:20210821T103000
DTSTAMP:20260426T005947
CREATED:20210726T174305Z
LAST-MODIFIED:20210918T091200Z
UID:80300-1629541800-1629541800@afcdiamonds.com
SUMMARY:AFC Rushden & Diamonds U21 v Coventrians U21
DESCRIPTION:Midland Football League – U21 East
URL:https://afcdiamonds.com/event/afc-rushden-diamonds-u21-v-coventrians-u21/
LOCATION:Islip Playing Field (Pitch #1)\, Playing Field Pavilion\, Toll Bar Road\, Islip\, Northamptonshire\, NN14 3LH
CATEGORIES:U21 League Fixture
ATTACH;FMTTYPE=image/jpeg:https://afcdiamonds.com/wp-content/uploads/2021/07/Coventrians-FC-MatchLogo-H.jpg
END:VEVENT
BEGIN:VEVENT
DTSTART;TZID=Europe/London:20210821T150000
DTEND;TZID=Europe/London:20210821T150000
DTSTAMP:20260426T005947
CREATED:20210718T073338Z
LAST-MODIFIED:20210820T174258Z
UID:79944-1629558000-1629558000@afcdiamonds.com
SUMMARY:AFC Rushden & Diamonds v Coalville Town FC
DESCRIPTION:
URL:https://afcdiamonds.com/event/afc-rushden-diamonds-v-coalville-town-fc/
LOCATION:Hayden Road Sports Ground\, Hayden Road\, Rushden\, Northamptonshire\, NN10 0HX
CATEGORIES:League Fixture
ATTACH;FMTTYPE=image/jpeg:https://afcdiamonds.com/wp-content/uploads/2018/08/Coalville-MatchLogo-H.jpg
END:VEVENT
END:VCALENDAR