BEGIN:VCALENDAR
VERSION:2.0
PRODID:-//AFC Rushden &amp; Diamonds - ECPv6.15.20//NONSGML v1.0//EN
CALSCALE:GREGORIAN
METHOD:PUBLISH
X-WR-CALNAME:AFC Rushden &amp; Diamonds
X-ORIGINAL-URL:https://afcdiamonds.com
X-WR-CALDESC:Events for AFC Rushden &amp; Diamonds
REFRESH-INTERVAL;VALUE=DURATION:PT1H
X-Robots-Tag:noindex
X-PUBLISHED-TTL:PT1H
BEGIN:VTIMEZONE
TZID:Europe/London
BEGIN:DAYLIGHT
TZOFFSETFROM:+0000
TZOFFSETTO:+0100
TZNAME:BST
DTSTART:20240331T010000
END:DAYLIGHT
BEGIN:STANDARD
TZOFFSETFROM:+0100
TZOFFSETTO:+0000
TZNAME:GMT
DTSTART:20241027T010000
END:STANDARD
BEGIN:DAYLIGHT
TZOFFSETFROM:+0000
TZOFFSETTO:+0100
TZNAME:BST
DTSTART:20250330T010000
END:DAYLIGHT
BEGIN:STANDARD
TZOFFSETFROM:+0100
TZOFFSETTO:+0000
TZNAME:GMT
DTSTART:20251026T010000
END:STANDARD
BEGIN:DAYLIGHT
TZOFFSETFROM:+0000
TZOFFSETTO:+0100
TZNAME:BST
DTSTART:20260329T010000
END:DAYLIGHT
BEGIN:STANDARD
TZOFFSETFROM:+0100
TZOFFSETTO:+0000
TZNAME:GMT
DTSTART:20261025T010000
END:STANDARD
END:VTIMEZONE
BEGIN:VEVENT
DTSTART;TZID=Europe/London:20251213T150000
DTEND;TZID=Europe/London:20251213T150000
DTSTAMP:20260424T171053
CREATED:20250810T095819Z
LAST-MODIFIED:20251124T175315Z
UID:101702-1765638000-1765638000@afcdiamonds.com
SUMMARY:AFC Rushden & Diamonds v Carlton Town
DESCRIPTION:The Club are proud to support our friends at Encompass with a Food Bank Collection at our game on 13th December. \nNon-perishable goods\, please
URL:https://afcdiamonds.com/event/afc-rushden-diamonds-v-carlton-town/
LOCATION:Hayden Road Sports Ground\, Hayden Road\, Rushden\, Northamptonshire\, NN10 0HX
CATEGORIES:League Fixture
ATTACH;FMTTYPE=image/png:https://afcdiamonds.com/wp-content/uploads/2025/08/Carlton-Town-MatchLogo-H.png
END:VEVENT
END:VCALENDAR