BEGIN:VCALENDAR
VERSION:2.0
PRODID:-//AFC Rushden &amp; Diamonds - ECPv6.15.20//NONSGML v1.0//EN
CALSCALE:GREGORIAN
METHOD:PUBLISH
X-WR-CALNAME:AFC Rushden &amp; Diamonds
X-ORIGINAL-URL:https://afcdiamonds.com
X-WR-CALDESC:Events for AFC Rushden &amp; Diamonds
REFRESH-INTERVAL;VALUE=DURATION:PT1H
X-Robots-Tag:noindex
X-PUBLISHED-TTL:PT1H
BEGIN:VTIMEZONE
TZID:Europe/London
BEGIN:DAYLIGHT
TZOFFSETFROM:+0000
TZOFFSETTO:+0100
TZNAME:BST
DTSTART:20230326T010000
END:DAYLIGHT
BEGIN:STANDARD
TZOFFSETFROM:+0100
TZOFFSETTO:+0000
TZNAME:GMT
DTSTART:20231029T010000
END:STANDARD
BEGIN:DAYLIGHT
TZOFFSETFROM:+0000
TZOFFSETTO:+0100
TZNAME:BST
DTSTART:20240331T010000
END:DAYLIGHT
BEGIN:STANDARD
TZOFFSETFROM:+0100
TZOFFSETTO:+0000
TZNAME:GMT
DTSTART:20241027T010000
END:STANDARD
BEGIN:DAYLIGHT
TZOFFSETFROM:+0000
TZOFFSETTO:+0100
TZNAME:BST
DTSTART:20250330T010000
END:DAYLIGHT
BEGIN:STANDARD
TZOFFSETFROM:+0100
TZOFFSETTO:+0000
TZNAME:GMT
DTSTART:20251026T010000
END:STANDARD
END:VTIMEZONE
BEGIN:VEVENT
DTSTART;TZID=Europe/London:20240912T190000
DTEND;TZID=Europe/London:20240912T190000
DTSTAMP:20260426T003132
CREATED:20240329T083722Z
LAST-MODIFIED:20240907T081355Z
UID:96300-1726167600-1726167600@afcdiamonds.com
SUMMARY:Annual General Meeting 2024 (at Irthlingborough Town Band Club)
DESCRIPTION:AFC Rushden & Diamonds Community Benefit Society Ltd.\nAnnual General Meeting 2024 to be held at the Irthlingborough Town Band Club
URL:https://afcdiamonds.com/event/annual-general-meeting-2024/
LOCATION:Irthlingborough Town Band Club\, 104 Victoria Street\, Irthlingborough\, Northamptonshire\, NN9 5RG
CATEGORIES:Annual General Meeting
ATTACH;FMTTYPE=image/png:https://afcdiamonds.com/wp-content/uploads/2024/08/AGM-Image.png
END:VEVENT
END:VCALENDAR