BEGIN:VCALENDAR
VERSION:2.0
PRODID:-//AFC Rushden &amp; Diamonds - ECPv6.15.20//NONSGML v1.0//EN
CALSCALE:GREGORIAN
METHOD:PUBLISH
X-WR-CALNAME:AFC Rushden &amp; Diamonds
X-ORIGINAL-URL:https://afcdiamonds.com
X-WR-CALDESC:Events for AFC Rushden &amp; Diamonds
REFRESH-INTERVAL;VALUE=DURATION:PT1H
X-Robots-Tag:noindex
X-PUBLISHED-TTL:PT1H
BEGIN:VTIMEZONE
TZID:Europe/London
BEGIN:DAYLIGHT
TZOFFSETFROM:+0000
TZOFFSETTO:+0100
TZNAME:BST
DTSTART:20240331T010000
END:DAYLIGHT
BEGIN:STANDARD
TZOFFSETFROM:+0100
TZOFFSETTO:+0000
TZNAME:GMT
DTSTART:20241027T010000
END:STANDARD
BEGIN:DAYLIGHT
TZOFFSETFROM:+0000
TZOFFSETTO:+0100
TZNAME:BST
DTSTART:20250330T010000
END:DAYLIGHT
BEGIN:STANDARD
TZOFFSETFROM:+0100
TZOFFSETTO:+0000
TZNAME:GMT
DTSTART:20251026T010000
END:STANDARD
BEGIN:DAYLIGHT
TZOFFSETFROM:+0000
TZOFFSETTO:+0100
TZNAME:BST
DTSTART:20260329T010000
END:DAYLIGHT
BEGIN:STANDARD
TZOFFSETFROM:+0100
TZOFFSETTO:+0000
TZNAME:GMT
DTSTART:20261025T010000
END:STANDARD
END:VTIMEZONE
BEGIN:VEVENT
DTSTART;TZID=Europe/London:20250505T194500
DTEND;TZID=Europe/London:20250505T194500
DTSTAMP:20260423T081454
CREATED:20250427T202557Z
LAST-MODIFIED:20250502T190802Z
UID:100279-1746474300-1746474300@afcdiamonds.com
SUMMARY:Diamonds Academy U18 v Bugbrooke St Michaels U18
DESCRIPTION:Diamonds Academy U18 v Bugbrooke St Michaels U18\n(U18s final home match of the season) \nNorthants Senior Youth League – South Division\nEntry:\n£3 Adult & £1 Concession \nNote: The Club Shop will be open throughout the match\, so it will effectively be open from 4pm – 10pm.\nIf you arrive after around 6:30pm to renew your season ticket\, when the only way to enter the stadium will be to pay via the turnstiles\, Lorraine and Laura in the Club Shop will deduct the admission cost from the price of the season ticket / bundle.
URL:https://afcdiamonds.com/event/__trashed/
LOCATION:Hayden Road Sports Ground\, Hayden Road\, Rushden\, Northamptonshire\, NN10 0HX
CATEGORIES:NSYL South
ATTACH;FMTTYPE=image/jpeg:https://afcdiamonds.com/wp-content/uploads/2012/08/Bugbrooke-SM-H.jpg
END:VEVENT
END:VCALENDAR