BEGIN:VCALENDAR
VERSION:2.0
PRODID:-//AFC Rushden &amp; Diamonds - ECPv6.15.20//NONSGML v1.0//EN
CALSCALE:GREGORIAN
METHOD:PUBLISH
X-WR-CALNAME:AFC Rushden &amp; Diamonds
X-ORIGINAL-URL:https://afcdiamonds.com
X-WR-CALDESC:Events for AFC Rushden &amp; Diamonds
REFRESH-INTERVAL;VALUE=DURATION:PT1H
X-Robots-Tag:noindex
X-PUBLISHED-TTL:PT1H
BEGIN:VTIMEZONE
TZID:Europe/London
BEGIN:DAYLIGHT
TZOFFSETFROM:+0000
TZOFFSETTO:+0100
TZNAME:BST
DTSTART:20200329T010000
END:DAYLIGHT
BEGIN:STANDARD
TZOFFSETFROM:+0100
TZOFFSETTO:+0000
TZNAME:GMT
DTSTART:20201025T010000
END:STANDARD
BEGIN:DAYLIGHT
TZOFFSETFROM:+0000
TZOFFSETTO:+0100
TZNAME:BST
DTSTART:20210328T010000
END:DAYLIGHT
BEGIN:STANDARD
TZOFFSETFROM:+0100
TZOFFSETTO:+0000
TZNAME:GMT
DTSTART:20211031T010000
END:STANDARD
BEGIN:DAYLIGHT
TZOFFSETFROM:+0000
TZOFFSETTO:+0100
TZNAME:BST
DTSTART:20220327T010000
END:DAYLIGHT
BEGIN:STANDARD
TZOFFSETFROM:+0100
TZOFFSETTO:+0000
TZNAME:GMT
DTSTART:20221030T010000
END:STANDARD
END:VTIMEZONE
BEGIN:VEVENT
DTSTART;TZID=Europe/London:20210301T194500
DTEND;TZID=Europe/London:20210301T194500
DTSTAMP:20260422T102713
CREATED:20200906T193236Z
LAST-MODIFIED:20210109T192204Z
UID:76632-1614627900-1614627900@afcdiamonds.com
SUMMARY:MATCH OFF - Hitchin Town v AFCRD
DESCRIPTION:
URL:https://afcdiamonds.com/event/hitchin-town-v-afcrd-01-03-21/
LOCATION:Top Field\, Fishponds Road\, Hitchin\, Hertfordshire\, SG5 1NU
CATEGORIES:League Fixture
ATTACH;FMTTYPE=image/jpeg:https://afcdiamonds.com/wp-content/uploads/2018/07/Hitchin-Match-A.jpg
END:VEVENT
BEGIN:VEVENT
DTSTART;TZID=Europe/London:20210306T150000
DTEND;TZID=Europe/London:20210306T150000
DTSTAMP:20260422T102713
CREATED:20200906T193414Z
LAST-MODIFIED:20210109T192217Z
UID:76634-1615042800-1615042800@afcdiamonds.com
SUMMARY:MATCH OFF - AFCRD v Nuneaton Borough
DESCRIPTION:
URL:https://afcdiamonds.com/event/afcrd-v-nuneaton-borough-06-03-21/
LOCATION:Hayden Road Sports Ground\, Hayden Road\, Rushden\, Northamptonshire\, NN10 0HX
CATEGORIES:League Fixture
ATTACH;FMTTYPE=image/jpeg:https://afcdiamonds.com/wp-content/uploads/2019/06/Nuneaton-Match-H.jpg
END:VEVENT
BEGIN:VEVENT
DTSTART;TZID=Europe/London:20210313T150000
DTEND;TZID=Europe/London:20210313T150000
DTSTAMP:20260422T102713
CREATED:20200906T193846Z
LAST-MODIFIED:20220227T170420Z
UID:76637-1615647600-1615647600@afcdiamonds.com
SUMMARY:MATCH OFF: Barwell FC v AFC Rushden & Diamonds
DESCRIPTION:
URL:https://afcdiamonds.com/event/match-off-barwell-fc-v-afcrd-13-03-21/
LOCATION:UK Flooring Direct Ground\, Kirkby Road\, Barwell\, Leicestershire\, LE9 8FQ
CATEGORIES:League Fixture
ATTACH;FMTTYPE=image/jpeg:https://afcdiamonds.com/wp-content/uploads/2018/07/Barwell-Match-A.jpg
END:VEVENT
BEGIN:VEVENT
DTSTART;TZID=Europe/London:20210320T150000
DTEND;TZID=Europe/London:20210320T150000
DTSTAMP:20260422T102713
CREATED:20200906T194021Z
LAST-MODIFIED:20210316T082528Z
UID:76639-1616252400-1616252400@afcdiamonds.com
SUMMARY:MATCH OFF - AFCRD v Royston Town
DESCRIPTION:
URL:https://afcdiamonds.com/event/afcrd-v-royston-town-20-03-21/
LOCATION:Hayden Road Sports Ground\, Hayden Road\, Rushden\, Northamptonshire\, NN10 0HX
CATEGORIES:League Fixture
ATTACH;FMTTYPE=image/jpeg:https://afcdiamonds.com/wp-content/uploads/2018/08/Royston-Match-Logo-H.jpg
END:VEVENT
BEGIN:VEVENT
DTSTART;TZID=Europe/London:20210327T150000
DTEND;TZID=Europe/London:20210327T150000
DTSTAMP:20260422T102713
CREATED:20200906T194216Z
LAST-MODIFIED:20210316T082537Z
UID:76641-1616857200-1616857200@afcdiamonds.com
SUMMARY:MATCH OFF - Redditch United v AFCRD
DESCRIPTION:
URL:https://afcdiamonds.com/event/redditch-united-v-afcrd-27-03-21/
LOCATION:The TRICO Stadium\, Sallie Swan Street\, off Bromsgrove Road\, Redditch\, Worcestershire\, B97 4AU
CATEGORIES:League Fixture
ATTACH;FMTTYPE=image/jpeg:https://afcdiamonds.com/wp-content/uploads/2018/07/Redditch-Match-A.jpg
END:VEVENT
END:VCALENDAR